BEGIN:VCALENDAR
VERSION:2.0
PRODID:-//wp-events-plugin.com//7.2.3.1//EN
TZID:Europe/Paris
X-WR-TIMEZONE:Europe/Paris
BEGIN:VEVENT
UID:6@preprod.maisondebourgogne.fr
DTSTART;TZID=Europe/Paris;VALUE=DATE:20250816
DTEND;TZID=Europe/Paris;VALUE=DATE:20250817
DTSTAMP:20250612T114252Z
URL:https://preprod.maisondebourgogne.fr/events/atelier-pain-aout-2/
SUMMARY:Atelier Pain Aout
DESCRIPTION:L'atelier pain se déroule toute la journée du 16 aout.\n\nVou
 s apprendrez toutes les étapes de la fabrication du pain avec l'équipe d
 u Relais.\nOn peut acheter le pain à la fin de l'atelier\, mais il faut l
 e réserver au Relais.
ATTACH;FMTTYPE=image/jpeg:https://preprod.maisondebourgogne.fr/wp-content/
 uploads/2024/01/Flyer-distribution-de-pain-A5-1-1.png
CATEGORIES:Atelier,Pain
LOCATION:Le Relais\, 13\, route de Bourgogne\, La Comelle\, Saone et Loire\
 , 71990\, France
X-APPLE-STRUCTURED-LOCATION;VALUE=URI;X-ADDRESS=13\, route de Bourgogne\, L
 a Comelle\, Saone et Loire\, 71990\, France;X-APPLE-RADIUS=100;X-TITLE=Le 
 Relais:geo:0,0
END:VEVENT
BEGIN:VTIMEZONE
TZID:Europe/Paris
X-LIC-LOCATION:Europe/Paris
BEGIN:DAYLIGHT
DTSTART:20250330T030000
TZOFFSETFROM:+0100
TZOFFSETTO:+0200
TZNAME:CEST
END:DAYLIGHT
END:VTIMEZONE
END:VCALENDAR