BEGIN:VCALENDAR
VERSION:2.0
PRODID:-//wp-events-plugin.com//7.2.3.1//EN
TZID:Europe/Paris
X-WR-TIMEZONE:Europe/Paris
BEGIN:VEVENT
UID:10@preprod.maisondebourgogne.fr
DTSTART;TZID=Europe/Paris;VALUE=DATE:20251115
DTEND;TZID=Europe/Paris;VALUE=DATE:20251116
DTSTAMP:20250611T155004Z
URL:https://preprod.maisondebourgogne.fr/events/atelier-pain-novembre-2/
SUMMARY:Atelier Pain Novembre
DESCRIPTION:L'atelier pain se déroule toute la journée du 15 novembre.\n\
 nVous apprendrez toutes les étapes de la fabrication du pain avec l'équi
 pe du Relais.\nOn peut acheter le pain à la fin de l'atelier\, mais il fa
 ut le réserver au Relais.
CATEGORIES:Atelier,Pain
LOCATION:Le Relais\, 13\, route de Bourgogne\, La Comelle\, Saone et Loire\
 , 71990\, France
X-APPLE-STRUCTURED-LOCATION;VALUE=URI;X-ADDRESS=13\, route de Bourgogne\, L
 a Comelle\, Saone et Loire\, 71990\, France;X-APPLE-RADIUS=100;X-TITLE=Le 
 Relais:geo:0,0
END:VEVENT
BEGIN:VTIMEZONE
TZID:Europe/Paris
X-LIC-LOCATION:Europe/Paris
BEGIN:STANDARD
DTSTART:20251026T020000
TZOFFSETFROM:+0200
TZOFFSETTO:+0100
TZNAME:CET
END:STANDARD
END:VTIMEZONE
END:VCALENDAR